BEGIN:VCALENDAR
VERSION:2.0
PRODID:icalendar-ruby
CALSCALE:GREGORIAN
BEGIN:VEVENT
DTSTAMP:20260420T125917Z
UID:17a1678b-2dac-4f32-b1bf-4d8071f514f5
DTSTART;VALUE=DATE:20230524
DESCRIPTION:Property ID# 556778\, Locatoin: 62 Queen Street\, Upper hutt\, 
 Time: 2:00PM
SUMMARY:Auction for 
END:VEVENT
END:VCALENDAR
